BEGIN:VCALENDAR
VERSION:2.0
PRODID:-//Közös Kilométer - ECPv6.15.18//NONSGML v1.0//EN
CALSCALE:GREGORIAN
METHOD:PUBLISH
X-ORIGINAL-URL:https://kozoskilometer.hu
X-WR-CALDESC:Események Közös Kilométer
REFRESH-INTERVAL;VALUE=DURATION:PT1H
X-Robots-Tag:noindex
X-PUBLISHED-TTL:PT1H
BEGIN:VTIMEZONE
TZID:UTC
BEGIN:STANDARD
TZOFFSETFROM:+0000
TZOFFSETTO:+0000
TZNAME:UTC
DTSTART:20240101T000000
END:STANDARD
END:VTIMEZONE
BEGIN:VEVENT
DTSTART;TZID=UTC:20251214T080000
DTEND;TZID=UTC:20560131T170000
DTSTAMP:20260426T035809
CREATED:20251223T205631Z
LAST-MODIFIED:20251223T205631Z
UID:2809-1765699200-2716563600@kozoskilometer.hu
SUMMARY:5 nap – 5 rövid séta
DESCRIPTION:5 nap – 5 rövid séta 🌿\n\nRövid leírás\n7 napból legalább 5 napon kimozdulsz egy rövid sétára (1–2 km). Ha kimarad 1–2 nap\, attól még teljesíthető. \n\nCélcsoport\n\nkezdők\nstresszes\, ülőmunkás emberek\nelfoglalt szülők\n\n\nIdőtartam\n\n7 nap\n\n\nCél / teljesítési feltételek\n\nlegalább 5 külön napon séta\n1–2 km alkalmanként (rugalmasan)\n\n\nElfogadott aktivitások\n\nséta\, gyaloglás\nlaza kocogás\n\n\nHogyan működik lépésről lépésre?\n\nCsatlakozol az „5 nap – 5 rövid séta” kihíváshoz.\nA következő 7 nap során legalább 5 külön napon sétálsz.\nNéhány sétáról feltöltesz fotót / screenshotot a profilodra.\nHa megvan az 5 nap\, te magad utalsz adományt.\nLezárod / megrendeled a kihívást → pont + jelvény.\n\n\nMit tölts fel a profilodra?\n\nfotó parkban\, utcán\, tóparton\, lépcsőn\, erdei úton\napp screenshot távval / lépésszámmal\nkommentek pl.: „3/5 séta – ma a parkban”\n\n\nAdomány – hogyan segíts?\n\nAjánlott fix adomány: 1 000 Ft / fő\nTeljesítés után utalj legalább 1 000 Ft-ot közvetlenül egy általad választott alapítványnak.\nA Közös Kilométer nem fogad el és nem továbbít adományokat.\n\n  \n\nPontok & jelvények + ellenőrzés\n\nTeljesítés után pont + jelvény jár.\nFontos: teljesítés után zárd le / rendeld meg a kihívást\, különben nem tudjuk jóváírni.\nA teljesítést szúrópróbaszerűen ellenőrizzük a profilodon lévő tartalmak alapján.\nHa nem igazolható\, a pont és jelvény visszavonható.\n\n  \n  \n 
URL:https://kozoskilometer.hu/event/5-nap-5-rovid-seta/
CATEGORIES:séta
ATTACH;FMTTYPE=image/jpeg:https://kozoskilometer.hu/wp-content/uploads/2025/12/arek-adeoye-ljoCgjs63SM-unsplash.jpg
END:VEVENT
BEGIN:VEVENT
DTSTART;TZID=UTC:20251214T080000
DTEND;TZID=UTC:20660131T170000
DTSTAMP:20260426T035809
CREATED:20251223T221333Z
LAST-MODIFIED:20251223T221333Z
UID:2807-1765699200-3032182800@kozoskilometer.hu
SUMMARY:20 000 közös lépés – Csapatkihívás
DESCRIPTION:20 000 közös lépés – Csapatkihívás 🚶‍♀️🚶‍♂️\nRövid leírás\nBaráti / családi / munkahelyi csapatként egy hét alatt összegyűjtötök kb. 20 000 lépést (kb. 13–15 km) – mindenki hozzárakja a saját részét. \nKinek ajánljuk?\n\nbaráti társaságok\ncsaládok\nmunkahelyi csapatok\nonline „lépés-társak”\n\nIdőtartam\n\n7 nap\n\nCél / teljesítési feltételek\n\na csapat együttesen összegyűjt kb. 20 000 lépést\nminden csapattag hozzátesz valamennyit (nincs minimum egyénileg)\n\nElfogadott aktivitások\n\nséta\, gyaloglás\nfutás\ntúra\n\nHogyan működik lépésről lépésre?\n\nÖsszeáll a csapat\, csatlakoztok a kihíváshoz.\nMindenki méri a saját napi lépésszámát (telefon\, óra\, lépésszámláló).\nA hét során mindenki feltölt néhány igazoló screenshotot / fotót a profiljára.\nA hét végén megnézitek\, hogy összejött-e kb. 20 000 lépés.\nHa igen\, minden csapattag saját maga utal adományt a választott alapítványnak.\nMindenki egyénileg lezárja / megrendeli a kihívást\, megkapja a pontot és jelvényt.\n\nMit tölts fel a profilodra?\n\nlépésszámláló / telefon / óra képernyőfotó (napi lépésszám)\nközös séta-fotók (akár arc nélkül)\nrövid kommentek: „Ma 4 500 lépés – csapatlépés 3. nap”\n\nAdomány – hogyan segíts?\n\nAjánlott fix adomány: 2 000 Ft / fő\nHa a csapat teljesítette a kihívást\, minden csapattag utal legalább 2 000 Ft-ot közvetlenül a saját maga által választott alapítványnak.\nA Közös Kilométer nem fogad el adományt\, nem gyűjt és nem továbbít pénzt alapítványok számára.\nAz adományozás mindig közvetlenül közted és a választott szervezet között zajlik.\n\nPontok & jelvények + ellenőrzés\n\nA kihívás teljesítésével minden csapattag pontot és jelvényt kap.\nCsak az kapja meg\, aki lezárja / megrendeli a kihívást a felületen.\nA teljesítést szúrópróba-szerűen ellenőrizzük (profilra feltöltött képek / lépésszámok).\nNem igazolt teljesítés esetén a pont és jelvény visszavonható.\n\n  \n  \n  \n 
URL:https://kozoskilometer.hu/event/20-000-kozos-lepes-csapatkihivas/
CATEGORIES:Csapatkihívás
ATTACH;FMTTYPE=image/jpeg:https://kozoskilometer.hu/wp-content/uploads/2025/12/greg-rosenke-MJNbBLx9W5U-unsplash.jpg
END:VEVENT
BEGIN:VEVENT
DTSTART;TZID=UTC:20251223T080000
DTEND;TZID=UTC:20660131T170000
DTSTAMP:20260426T035809
CREATED:20251223T223515Z
LAST-MODIFIED:20251223T223515Z
UID:2845-1766476800-3032182800@kozoskilometer.hu
SUMMARY:Az első 10 km-em – 2 hetes kihívás
DESCRIPTION:  \n  \n  \nAz első 10 km-em – 2 hetes kihívás 🥇\nMiről szól a kihívás?\nAz „Első 10 km-em” az a kihívás\, ami után büszkén mondhatod: \n\n„Én ezt összegyűjtöttem. Nem egyszerre\, nem versenyen\, hanem szépen\, lassan\, mégis kitartóan.” \n\nKét hét alatt összehozod az első 10 km-edet: séta\, futás\, bringa – a te tempódban. \nKinek ajánljuk?\n\nteljesen kezdőknek\,\nazoknak\, akik évek óta mondják: „egyszer el kellene kezdenem mozogni”\,\nszülőknek\, akik rövid blokkokban tudnak kimenni\,\nbárkinek\, aki egy „vállalható” első célt keres.\n\n\nMit vállalsz a kihívással?\n\nIdőtartam: 14 nap\nCél: összesen 10 km mozgás\n\n  \nAktivitás: \n\nséta\,\ngyaloglás\,\nfutás / kocogás\,\nkerékpár\,\nnordic walking.\n\nMehet vegyesen is – a lényeg\, hogy összesen 10 km legyen. \nHogyan működik?\n\nCsatlakozol az „Az első 10 km-em” kihíváshoz.\nA következő 14 napban apránként gyűjtöd a távot: 1–2 km itt\, 2–3 km ott…\nLegalább pár alkalomról feltöltesz fotót / screenshotot a profilodra.\nHa a végén összejött a 10 km\, te magad adományozol.\n\n\nMit tölts fel a profilodra?\n\nfutóapp / lépésszámláló / bringaapp screenshot a távval\,\nfotó az útvonalról\, tornacipőről\, bringáról\, kilátásról\,\nkommentek:\n\n\n„3 km – összesen már 5/10 km”\,„Megvan az első 10 km-em! 🎉”. \n\n\nAdomány – hogyan segíts?\nAjánlott fix adomány:  1 000 Ft / fő. \nHa sikerült összegyűjteni a 10 km-t: \n\nutalj legalább 1 000 Ft-ot\nközvetlenül egy általad választott alapítványnak / civil szervezetnek.\n\nA Közös Kilométer: \n\nnem fogad adományt\,\nnem utal tovább pénzt –csak segít\, hogy eljuss idáig. 🥰\n\n  \nPontok & jelvények + szúrópróbaszerű ellenőrzés\nA kihívás teljesítésével: \n\npontot kapsz a Közös Kilométer rendszerében\,\nés egy „Az első 10 km-em – 2 hetes kihívás” jelvényt is megszerzel a profilodra. 🏅\n\nFeltétele: \n\nTeljesítsd a kihívást (legalább egy 10 km-es edzés futás + séta kombinációjával).\nLegyen a profilodon egyértelmű igazolás (app screenshot\, edzés poszt).\nA kihívást lezárod / megrendeled a felületen.\n\nEllenőrzés: \nA kihívások teljesítését véletlenszerűen\, szúrópróbaszerűen ellenőrizzük a profilodra feltöltött: \n\nképek\,\nfutóapp képernyőfotók\,\nmegjegyzések alapján.\n\nHa nem igazolható hitelesen\, hogy valóban teljesítetted az 10 km-t (egy edzésen belül\, futás–séta keverékével)\, \n\nfenntartjuk a jogot\, hogy az adott kihívásért járó pontot és jelvényt visszavonjuk.\n\nEzzel azt szeretnénk biztosítani\, hogy: \n\na jelvények valódi teljesítményt tükrözzenek\,\na kezdő futók büszkén\, jogosan mutathassák: „ezt én valóban megcsináltam”.\n\n  \n  \n 
URL:https://kozoskilometer.hu/event/az-elso-10-km-em-2-hetes-kihivas/
CATEGORIES:futás,gyaloglás,kerékpár,séta
ATTACH;FMTTYPE=image/jpeg:https://kozoskilometer.hu/wp-content/uploads/2025/12/arek-adeoye-gGZ8ZynljWk-unsplash.jpg
END:VEVENT
BEGIN:VEVENT
DTSTART;TZID=UTC:20251223T080000
DTEND;TZID=UTC:20660131T170000
DTSTAMP:20260426T035809
CREATED:20251223T230411Z
LAST-MODIFIED:20251223T230411Z
UID:2857-1766476800-3032182800@kozoskilometer.hu
SUMMARY:Hétvégi felfedező – 2 alkalmas kihívás
DESCRIPTION:  \n\nHétvégi felfedező – 2 alkalmas kihívás 🌄\nEgész héten rohanás\, munka\, bevásárlás\, ügyintézés… A hétvége pedig gyakran csak „pihi a kanapén”.\nA „Hétvégi felfedező – 2 alkalmas kihívás” arról szól\, hogy két egymást követő hétvégén legalább egyszer-egyszer kimozdulsz a szabadba – egy séta\, kirándulás\, túra vagy bringázás erejéig. \nNem kell hegyet mászni\, nem kell sportolónak lenned – elég\, ha két alkalommal tudatosan választod a szabad levegőt\, és közben egy jó ügy mellé is odaállsz. 💚 \nKinek szól?\n\ncsaládoknak\, akik szeretnének közös hétvégi programot\,\npároknak\, akik kiszakadnának a mindennapokból\,\nbaráti társaságoknak\, akik új helyeket fedeznének fel\,\nszingliknek\, akiknek jól esne egy „kimozdulós” énidő a hétvégén\,\nbárkinek\, aki a hétvégét nem csak zárt térben szeretné tölteni.\n\nIdőkeret & cél\n\nIdőkeret: 2 hét (2 egymást követő hétvége)\nCél: legalább 2 alkalom szabadban töltött aktív idő – minimum 30 perc / alkalom\, a két hétvége alatt.\n\nElfogadott aktivitások\nElfogadott: \n\nséta\, gyaloglás a szabadban (park\, erdő\, tópart\, városnézés\, kilátóhoz séta stb.)\,\nkirándulás\, túra\, könnyű hegymenet\,\nkerékpározás\, nordic walking\, laza futás.\n\nNem számít bele önmagában: \n\nbevásárlás közben „rohangálás” a boltban\,\n10–15 perces nagyon rövid kimozdulások (a cél legalább 30 perc)\,\nzárt térben végzett mozgás (pl. edzőterem) – ide kifejezetten szabadban végzett aktivitást várunk.\n\nHogyan működik lépésről lépésre?\n\nCsatlakozz a kihíváshoz\nVálaszd a Közös Kilométer felületén a\n„Hétvégi felfedező – 2 alkalmas kihívás 🌄” kihívást.\nTervezd be a két hétvégét\nA következő 2 hétben (2 egymást követő hétvége) tervezd be\, hogy\nlegalább egy-egy alkalommal kimozdulsz:\nparkba\, erdőbe\, tópartra\, kilátóhoz\, városnézésre vagy bármilyen szabadba.\nTeljesíts 2 szabadtéri „felfedező” alkalmat\nMindkét hétvégén legalább 1× tölts minimum 30 percet aktívan a szabadban\n(séta\, túra\, bringa\, futás\, nordic walking stb.).\nTölts fel igazoló tartalmat a profilodra\nMindkét alkalomról tölts fel: \n\n1–1 fotót a helyszínről (útvonal\, táj\, park\, kilátás\, tópart\, városrész\, erdei ösvény stb.)\, és/vagy\nha mérsz távot/időt\, egy app képernyőfotót (táv\, idő).\n\n\nTe magad adományozol\nHa megvolt a két „felfedező hétvége”\, a kihívás végén egy általad választott alapítvány felé adományozhatsz.\nZárd le / „rendeld meg” a kihívást\, hogy a rendszer jóváírhassa a pontot és a jelvényt a profilodra.\n\nMit tölts fel a profilodra?\nA „Hétvégi felfedező” kihívásnál a profilod egy mini utinapló. Jó\, ha látszik\, hogy tényleg kimozdultál\, és nem a nappaliból teljesítetted a kihívást. 🙂 \nAjánlott tartalmak: \n\nHelyszínfotók:\n\nerdő\, mező\, dűlőút\, park\, tópart\, folyópart\, kilátó\, városnézős utca\,\nösvény\, turistaút jelzés\, pad a természetben\, híd\, kilátás valahonnan.\n\n\nAktivitást mutató képek:\n\ncipőd az ösvényen\,\nbringád egy pihenőpontnál\,\nlépésszám / táv / idő kijelző egy appból vagy óráról.\n\n\nRövid megjegyzések a profilodon\, például:\n\n„1/2 Hétvégi felfedező – ma a tópartot jártuk be 🌊”\n„2/2 – erdei séta a dombokon\, nagyon kellett ez a levegő 💚”\n„Két hétvége\, két új hely – kihívás teljesítve! 🌄”\n\n\n\nAdomány – hogyan segíts?\nA „Hétvégi felfedező – 2 alkalmas kihívás” kihíváshoz ajánlott fix adomány: 1 000 Ft / fő. \nHa teljesítetted a kihívást (két hétvége\, két aktív szabadban töltött alkalom)\, kérünk\, hogy: \n\nutalj legalább 1 000 Ft-ot (vagy ha szeretnéd\, ennél nagyobb összeget)\,\nközvetlenül egy általad választott alapítványnak / civil szervezetnek\,például környezetvédelmi\, természetvédelmi\, gyerekeket vagy közösségeket támogató szervezetnek.\n\nFontos:\nA Közös Kilométer: \n\nnem gyűjt és nem kezel pénzt alapítványok részére\,\nnem fogad el adományt a kihívások után\,\ncsak a mozgást\, a közösséget és a motivációt adja – az adományozás mindig közvetlenül közted és a szervezet között zajlik.\n\nPontok & jelvények + szúrópróbaszerű ellenőrzés\nA „Hétvégi felfedező – 2 alkalmas kihívás” teljesítéséért: \n\npontot kapsz a Közös Kilométer rendszerében\,\na profilodra kerül egy egyedi „Hétvégi felfedező” jelvény. 🏅\n\nAhhoz\, hogy megkapd: \n\nteljesítsd a kihívás feltételeit (2 szabadtéri alkalom\, min. 30 perc / alkalom)\,\ntölts fel a profilodra igazoló tartalmat (fotók\, esetleg app képernyőfotók\, megjegyzések)\,\na felületen zárd le / „rendeld meg” a kihívást.\n\nSzúrópróbaszerű ellenőrzés: \nA fair játék érdekében a kihívások teljesítését véletlenszerűen\, szúrópróbaszerűen ellenőrizzük a profilodra feltöltött: \n\nképek\,\napp képernyőfotók (ha vannak)\,\naktivitás-leírások alapján.\n\nHa az ellenőrzés során nem igazolható hitelesen\, hogy valóban teljesítetted a kihívást (pl. hiányoznak a „kimozdulásra” utaló bizonyítékok)\, a Közös Kilométer fenntartja a jogot\, hogy: \n\na kihívásért járó pontot és jelvényt visszavonja.\n\nEz azért fontos\, hogy a pontok és jelvények valódi teljesítést tükrözzenek\, és a rendszer mindenki számára fair és motiváló maradjon. 💚 \n\n  \n  \n  \n 
URL:https://kozoskilometer.hu/event/hetvegi-felfedezo-2-alkalmas-kihivas/
CATEGORIES:futás,gyaloglás,kerékpár,séta
ATTACH;FMTTYPE=image/jpeg:https://kozoskilometer.hu/wp-content/uploads/2025/12/alex-mccarthy-a6FHROHuQ9o-unsplash.jpg
END:VEVENT
BEGIN:VEVENT
DTSTART;TZID=UTC:20251224T080000
DTEND;TZID=UTC:20680131T170000
DTSTAMP:20260426T035809
CREATED:20251227T073302Z
LAST-MODIFIED:20251227T073859Z
UID:2877-1766563200-3095254800@kozoskilometer.hu
SUMMARY:15 000 lépéses nap – Egy napos mini-csúcs
DESCRIPTION:15 000 lépéses nap – Egy napos mini-csúcs 👣🔥\nSzeretnéd kipróbálni\, milyen érzés egy nap alatt „mini csúcsot” dönteni lépésekben?\nA „15 000 lépéses nap – Egy napos mini-csúcs” kihívás arról szól\, hogy egyetlen napon belül összegyűjtesz legalább 15 000 lépést. \nNem kell ultrafutónak lenned – elég\, ha tudatosan többet sétálsz\, gyalogolsz\, lépcsőzöl\, és aktívabbá teszed a napodat. 💚 \nKinek szól?\n\nakinek már megvan a napi 6–8 000 lépés\, és kipróbálná\, milyen a 15 000\,\nakik szívesen beiktatnának egy „extra aktív” napot\,\nakik szoktak sétálni\, de szeretnének egyszer nagyobbat dobni maguknak\,\nbárkinek\, aki szeretne egy egyszeri\, jól mérhető mini-csúcsot a lépésszámlálóján. 👣\n\nIdőkeret & cél\n\nIdőkeret: 1 naptári nap (00:00–23:59 között)\nCél: legalább 15 000 lépés összegyűjtése ezen a napon\n\nElfogadott aktivitások\nMi számít bele? \n\nminden lépés\, amit a lépésszámlálód / órád / telefonod mér\,\nséta\, gyaloglás\, kirándulás\, városi csavargás\,\nlépcsőzés\, tempósabb gyaloglás\, könnyű kocogás.\n\nMi nem számít önmagában? \n\nolyan tevékenység\, amit a lépésszámláló nem naplóz lépésként (pl. bringa\, úszás) – ezek szuperek\, de nem lépés.\n\nA lényeg: valódi\, saját lépésekkel jöjjön össze a 15 000. Hogy közben hol jársz – park\, város\, erdő\, lépcsőház – az már a te sztorid. 😊 \nHogyan működik lépésről lépésre?\n\nCsatlakozz a kihíváshoz\nVálaszd a Közös Kilométer felületén a „15 000 lépéses nap – Egy napos mini-csúcs 👣🔥” kihívást.\nVálassz ki egy napot\nTűzz ki egy olyan naptári napot\, amikor vállalod\, hogy extra aktív leszel\, és megcélzod a 15 000 lépést.\nFigyeld a lépésszámodat\nHasználj telefonos lépésszámlálót\, okosórát vagy aktivitásmérőt\, és az adott napon nézd\, hogyan alakulnak a lépéseid.\nTervezd be az extra mozgást\nHa nap közben kevés a lépés\, iktass be plusz sétát: \n\nszállj le egy megállóval előbb\,\nmenj egy hosszabb esti körre\,\nlépcsőzz lift helyett\,\nsétálj telefonálás közben.\n\n\nGyűjtsd össze a 15 000 lépést\nA kihívást akkor teljesíted\, ha a kijelölt napon a napi lépésszámod eléri vagy meghaladja a 15 000-et.\nTölts fel igazoló tartalmat a profilodra\nA kihívás napjáról tölts fel: \n\n1–2 db lépésszámláló / óra / app képernyőfotót\, amin látszik a napi lépésszámod\, és/vagy\nképet a sétáidról (park\, utca\, lépcső\, kilátás stb.).\n\n\nTe magad adományozol\nHa sikerült a 15 000 lépés\, a nap végén vagy a kihívás lezárásakor egy általad választott alapítványnak adományozhatsz.\nZárd le / „rendeld meg” a kihívást\, hogy a rendszer jóváírhassa a pontot és a jelvényt a profilodra.\n\nMit tölts fel a profilodra?\nA „15 000 lépéses nap” kihívásnál jó\, ha a profilodról egyértelműen látszik: ez tényleg egy extra aktív nap volt. \nAjánlott tartalmak: \n\nLépésszámlálós képernyőfotók:\n\ntelefon vagy óra napi lépésszám kijelzője (pl. 15 234 lépés)\,\nha van\, napi aktivitásgrafikon.\n\n\nFotók a nap során:\n\npark\, utca\, lépcső\, kilátás\,\ncipőd séta közben vagy a nap végén\,\nbármilyen hely\, ahova a „mini-csúcs” nap elvitt.\n\n\nRövid megjegyzések\, például:\n\n„15 000 lépéses nap – elfáradtam\, de megérte! 👣🔥”\n„Rekord: ma 16 203 lépés\, sosem volt még ennyi!”\n„Mini-csúcs kipipálva\, jöhet a következő kihívás 💚”\n\n\n\nAdomány – hogyan segíts?\nA „15 000 lépéses nap – Egy napos mini-csúcs” kihíváshoz ajánlott fix adomány:  1 000 Ft / fő. \nHa teljesítetted a kihívást (egy napon belül összegyűlt legalább 15 000 lépés)\, kérünk\, hogy: \n\nutalj legalább  1 000 Ft-ot (vagy ha szeretnéd\, ennél nagyobb összeget)\,\nközvetlenül egy általad választott alapítványnak / civil szervezetnek\, például egészségügyi\, gyerekeket\, rászorulókat vagy közösségeket támogató szervezetnek.\n\nFontos:\nA Közös Kilométer: \n\nnem gyűjt és nem kezel pénzt alapítványok részére\,\nnem fogad el adományt a kihívások után\,\ncsak a keretet\, a közösséget és a motivációt adja – az adományozás mindig közvetlenül közted és az általad választott szervezet között zajlik.\n\nPontok & jelvények + szúrópróbaszerű ellenőrzés\nA „15 000 lépéses nap – Egy napos mini-csúcs 👣🔥” kihívás teljesítéséért: \n\npontot kapsz a Közös Kilométer rendszerében\,\na profilodra kerül egy egyedi „15 000 lépéses nap” jelvény. 🏅\n\nAhhoz\, hogy megkapd: \n\nteljesítsd a kihívás feltételeit (min. 15 000 lépés egy napon belül)\,\ntölts fel a profilodra igazoló tartalmat (lépésszámos screenshotok\, fotók\, megjegyzések)\,\na felületen zárd le / „rendeld meg” a kihívást.\n\nSzúrópróbaszerű ellenőrzés: \nA fair játék érdekében a kihívások teljesítését véletlenszerűen\, szúrópróbaszerűen ellenőrizzük a profilodra feltöltött: \n\nképek\,\nlépésszámláló / app képernyőfotók\,\naktivitás-leírások alapján.\n\nHa az ellenőrzés során nem igazolható hitelesen\, hogy valóban teljesítetted a kihívást (pl. nincs nyoma a 15 000 lépésnek)\, a Közös Kilométer fenntartja a jogot\, hogy: \n\na kihívásért járó pontot és jelvényt visszavonja.\n\nEz azért fontos\, hogy a pontok és jelvények valódi teljesítést tükrözzenek\, és a rendszer mindenki számára fair és motiváló maradjon. 💚 \n\n  \n  \n  \n  \n 
URL:https://kozoskilometer.hu/event/15-000-lepeses-nap-egy-napos-mini-csucs/
CATEGORIES:séta
ATTACH;FMTTYPE=image/jpeg:https://kozoskilometer.hu/wp-content/uploads/2025/12/old-youth-n8RAEcEEnpo-unsplash-scaled.jpg
END:VEVENT
END:VCALENDAR