BEGIN:VCALENDAR
VERSION:2.0
PRODID:-//Közös Kilométer - ECPv6.15.18//NONSGML v1.0//EN
CALSCALE:GREGORIAN
METHOD:PUBLISH
X-ORIGINAL-URL:https://kozoskilometer.hu
X-WR-CALDESC:Események Közös Kilométer
REFRESH-INTERVAL;VALUE=DURATION:PT1H
X-Robots-Tag:noindex
X-PUBLISHED-TTL:PT1H
BEGIN:VTIMEZONE
TZID:UTC
BEGIN:STANDARD
TZOFFSETFROM:+0000
TZOFFSETTO:+0000
TZNAME:UTC
DTSTART:20240101T000000
END:STANDARD
END:VTIMEZONE
BEGIN:VEVENT
DTSTART;TZID=UTC:20251214T080000
DTEND;TZID=UTC:20660131T170000
DTSTAMP:20260426T014631
CREATED:20251223T221333Z
LAST-MODIFIED:20251223T221333Z
UID:2807-1765699200-3032182800@kozoskilometer.hu
SUMMARY:20 000 közös lépés – Csapatkihívás
DESCRIPTION:20 000 közös lépés – Csapatkihívás 🚶‍♀️🚶‍♂️\nRövid leírás\nBaráti / családi / munkahelyi csapatként egy hét alatt összegyűjtötök kb. 20 000 lépést (kb. 13–15 km) – mindenki hozzárakja a saját részét. \nKinek ajánljuk?\n\nbaráti társaságok\ncsaládok\nmunkahelyi csapatok\nonline „lépés-társak”\n\nIdőtartam\n\n7 nap\n\nCél / teljesítési feltételek\n\na csapat együttesen összegyűjt kb. 20 000 lépést\nminden csapattag hozzátesz valamennyit (nincs minimum egyénileg)\n\nElfogadott aktivitások\n\nséta\, gyaloglás\nfutás\ntúra\n\nHogyan működik lépésről lépésre?\n\nÖsszeáll a csapat\, csatlakoztok a kihíváshoz.\nMindenki méri a saját napi lépésszámát (telefon\, óra\, lépésszámláló).\nA hét során mindenki feltölt néhány igazoló screenshotot / fotót a profiljára.\nA hét végén megnézitek\, hogy összejött-e kb. 20 000 lépés.\nHa igen\, minden csapattag saját maga utal adományt a választott alapítványnak.\nMindenki egyénileg lezárja / megrendeli a kihívást\, megkapja a pontot és jelvényt.\n\nMit tölts fel a profilodra?\n\nlépésszámláló / telefon / óra képernyőfotó (napi lépésszám)\nközös séta-fotók (akár arc nélkül)\nrövid kommentek: „Ma 4 500 lépés – csapatlépés 3. nap”\n\nAdomány – hogyan segíts?\n\nAjánlott fix adomány: 2 000 Ft / fő\nHa a csapat teljesítette a kihívást\, minden csapattag utal legalább 2 000 Ft-ot közvetlenül a saját maga által választott alapítványnak.\nA Közös Kilométer nem fogad el adományt\, nem gyűjt és nem továbbít pénzt alapítványok számára.\nAz adományozás mindig közvetlenül közted és a választott szervezet között zajlik.\n\nPontok & jelvények + ellenőrzés\n\nA kihívás teljesítésével minden csapattag pontot és jelvényt kap.\nCsak az kapja meg\, aki lezárja / megrendeli a kihívást a felületen.\nA teljesítést szúrópróba-szerűen ellenőrizzük (profilra feltöltött képek / lépésszámok).\nNem igazolt teljesítés esetén a pont és jelvény visszavonható.\n\n  \n  \n  \n 
URL:https://kozoskilometer.hu/event/20-000-kozos-lepes-csapatkihivas/
CATEGORIES:Csapatkihívás
ATTACH;FMTTYPE=image/jpeg:https://kozoskilometer.hu/wp-content/uploads/2025/12/greg-rosenke-MJNbBLx9W5U-unsplash.jpg
END:VEVENT
END:VCALENDAR